BEGIN:VCALENDAR
VERSION:2.0
PRODID:-//Syndicate Wine Bar - ECPv6.15.20//NONSGML v1.0//EN
CALSCALE:GREGORIAN
METHOD:PUBLISH
X-ORIGINAL-URL:https://www.syndicatewines.com
X-WR-CALDESC:Events for Syndicate Wine Bar
REFRESH-INTERVAL;VALUE=DURATION:PT1H
X-Robots-Tag:noindex
X-PUBLISHED-TTL:PT1H
BEGIN:VTIMEZONE
TZID:America/Los_Angeles
BEGIN:DAYLIGHT
TZOFFSETFROM:-0800
TZOFFSETTO:-0700
TZNAME:PDT
DTSTART:20250309T100000
END:DAYLIGHT
BEGIN:STANDARD
TZOFFSETFROM:-0700
TZOFFSETTO:-0800
TZNAME:PST
DTSTART:20251102T090000
END:STANDARD
BEGIN:DAYLIGHT
TZOFFSETFROM:-0800
TZOFFSETTO:-0700
TZNAME:PDT
DTSTART:20260308T100000
END:DAYLIGHT
BEGIN:STANDARD
TZOFFSETFROM:-0700
TZOFFSETTO:-0800
TZNAME:PST
DTSTART:20261101T090000
END:STANDARD
BEGIN:DAYLIGHT
TZOFFSETFROM:-0800
TZOFFSETTO:-0700
TZNAME:PDT
DTSTART:20270314T100000
END:DAYLIGHT
BEGIN:STANDARD
TZOFFSETFROM:-0700
TZOFFSETTO:-0800
TZNAME:PST
DTSTART:20271107T090000
END:STANDARD
END:VTIMEZONE
BEGIN:VEVENT
DTSTART;TZID=America/Los_Angeles:20260201T130000
DTEND;TZID=America/Los_Angeles:20260201T143000
DTSTAMP:20260419T091628
CREATED:20251221T232758Z
LAST-MODIFIED:20251230T223134Z
UID:11963-1769950800-1769956200@www.syndicatewines.com
SUMMARY:Feb. Club Event (Sun. 1 PM)
DESCRIPTION:Event solely reserved for our Club Members to sample their new monthly selections.  For more information on club please go to www.syndicatewines.com/wineclub
URL:https://www.syndicatewines.com/event/feb-club-event-sun-1-pm
LOCATION:Syndicate Wine Bar\, 12620 SW First Street\, Beaverton\, OR\, 97005\, United States
CATEGORIES:21 and Older,Education,Wine Club Only
ATTACH;FMTTYPE=image/jpeg:https://www.syndicatewines.com/wp-content/uploads/2024/12/Wine-Club-Tasting-1.jpg
ORGANIZER;CN="Syndicate Wine Bar":MAILTO:events@syndicatewines.com
END:VEVENT
BEGIN:VEVENT
DTSTART;TZID=America/Los_Angeles:20260201T160000
DTEND;TZID=America/Los_Angeles:20260201T173000
DTSTAMP:20260419T091628
CREATED:20251221T232948Z
LAST-MODIFIED:20251230T223054Z
UID:11965-1769961600-1769967000@www.syndicatewines.com
SUMMARY:Feb. Club Event (Sun. 4 PM)
DESCRIPTION:Event solely reserved for our Club Members to sample their new monthly selections.  For more information on club please go to www.syndicatewines.com/wineclub
URL:https://www.syndicatewines.com/event/feb-club-event-sun-4-pm
LOCATION:Syndicate Wine Bar\, 12620 SW First Street\, Beaverton\, OR\, 97005\, United States
CATEGORIES:21 and Older,Education,Wine Club Only
ATTACH;FMTTYPE=image/jpeg:https://www.syndicatewines.com/wp-content/uploads/2024/12/Wine-Club-Tasting-1.jpg
ORGANIZER;CN="Syndicate Wine Bar":MAILTO:events@syndicatewines.com
END:VEVENT
END:VCALENDAR