BEGIN:VCALENDAR
VERSION:2.0
PRODID:-//Syndicate Wine Bar - ECPv6.15.20//NONSGML v1.0//EN
CALSCALE:GREGORIAN
METHOD:PUBLISH
X-ORIGINAL-URL:https://www.syndicatewines.com
X-WR-CALDESC:Events for Syndicate Wine Bar
REFRESH-INTERVAL;VALUE=DURATION:PT1H
X-Robots-Tag:noindex
X-PUBLISHED-TTL:PT1H
BEGIN:VTIMEZONE
TZID:America/Los_Angeles
BEGIN:DAYLIGHT
TZOFFSETFROM:-0800
TZOFFSETTO:-0700
TZNAME:PDT
DTSTART:20250309T100000
END:DAYLIGHT
BEGIN:STANDARD
TZOFFSETFROM:-0700
TZOFFSETTO:-0800
TZNAME:PST
DTSTART:20251102T090000
END:STANDARD
BEGIN:DAYLIGHT
TZOFFSETFROM:-0800
TZOFFSETTO:-0700
TZNAME:PDT
DTSTART:20260308T100000
END:DAYLIGHT
BEGIN:STANDARD
TZOFFSETFROM:-0700
TZOFFSETTO:-0800
TZNAME:PST
DTSTART:20261101T090000
END:STANDARD
BEGIN:DAYLIGHT
TZOFFSETFROM:-0800
TZOFFSETTO:-0700
TZNAME:PDT
DTSTART:20270314T100000
END:DAYLIGHT
BEGIN:STANDARD
TZOFFSETFROM:-0700
TZOFFSETTO:-0800
TZNAME:PST
DTSTART:20271107T090000
END:STANDARD
END:VTIMEZONE
BEGIN:VEVENT
DTSTART;TZID=America/Los_Angeles:20260321T140000
DTEND;TZID=America/Los_Angeles:20260321T153000
DTSTAMP:20260419T074929
CREATED:20251115T180827Z
LAST-MODIFIED:20260211T215750Z
UID:11691-1774101600-1774107000@www.syndicatewines.com
SUMMARY:Wine 101: Red Mountain
DESCRIPTION:Located in southeastern Washington State\, Red Mountain is a seeming geologic oddity within the Yakima Valley\, home to dozens of prized vineyards known for producing expressive\, high quality wines. How did Red Mountain come to be? What makes its microclimate and terroir so distinct to have earned it an American Viticultural Area designation? \nIn this Wine 101 session\, we learn about and discuss the geologic and natural history of the area\, highlighting some of the founding Red Mountain vineyards that put it on the map\, and sample nine red wines from vineyards growing on its slopes.
URL:https://www.syndicatewines.com/event/redmountain
LOCATION:Syndicate Wine Bar\, 12620 SW First Street\, Beaverton\, OR\, 97005\, United States
CATEGORIES:Education
ATTACH;FMTTYPE=image/png:https://www.syndicatewines.com/wp-content/uploads/2026/02/red-mountain.png
ORGANIZER;CN="Syndicate Wine Bar":MAILTO:events@syndicatewines.com
END:VEVENT
END:VCALENDAR