BEGIN:VCALENDAR
VERSION:2.0
PRODID:-//Syndicate Wine Bar - ECPv6.15.20//NONSGML v1.0//EN
CALSCALE:GREGORIAN
METHOD:PUBLISH
X-WR-CALNAME:Syndicate Wine Bar
X-ORIGINAL-URL:https://www.syndicatewines.com
X-WR-CALDESC:Events for Syndicate Wine Bar
REFRESH-INTERVAL;VALUE=DURATION:PT1H
X-Robots-Tag:noindex
X-PUBLISHED-TTL:PT1H
BEGIN:VTIMEZONE
TZID:America/Los_Angeles
BEGIN:DAYLIGHT
TZOFFSETFROM:-0800
TZOFFSETTO:-0700
TZNAME:PDT
DTSTART:20250309T100000
END:DAYLIGHT
BEGIN:STANDARD
TZOFFSETFROM:-0700
TZOFFSETTO:-0800
TZNAME:PST
DTSTART:20251102T090000
END:STANDARD
BEGIN:DAYLIGHT
TZOFFSETFROM:-0800
TZOFFSETTO:-0700
TZNAME:PDT
DTSTART:20260308T100000
END:DAYLIGHT
BEGIN:STANDARD
TZOFFSETFROM:-0700
TZOFFSETTO:-0800
TZNAME:PST
DTSTART:20261101T090000
END:STANDARD
BEGIN:DAYLIGHT
TZOFFSETFROM:-0800
TZOFFSETTO:-0700
TZNAME:PDT
DTSTART:20270314T100000
END:DAYLIGHT
BEGIN:STANDARD
TZOFFSETFROM:-0700
TZOFFSETTO:-0800
TZNAME:PST
DTSTART:20271107T090000
END:STANDARD
END:VTIMEZONE
BEGIN:VEVENT
DTSTART;TZID=America/Los_Angeles:20260122T170000
DTEND;TZID=America/Los_Angeles:20260122T200000
DTSTAMP:20260419T232651
CREATED:20251203T014537Z
LAST-MODIFIED:20251203T014538Z
UID:11858-1769101200-1769112000@www.syndicatewines.com
SUMMARY:Winemaker Spotlight: Roco Winery
DESCRIPTION:One of the first wineries Syndicate established a relationship with was Roco Winery in Newberg.  We highly recommend this location for their variety and adorably cute tasting room.  Now Roco comes directly to Syndicate on Thursday\, January 22nd.  They will be taking over the flight for the night and have special bottle sales only found in their tasting room in Newberg\, OR.
URL:https://www.syndicatewines.com/event/winemaker-spotlight-roco-winery
LOCATION:Syndicate Wine Bar\, 12620 SW First Street\, Beaverton\, OR\, 97005\, United States
CATEGORIES:21 and Older,Education
ATTACH;FMTTYPE=image/jpeg:https://www.syndicatewines.com/wp-content/uploads/2025/12/roco.jpg
ORGANIZER;CN="Syndicate Wine Bar":MAILTO:events@syndicatewines.com
END:VEVENT
BEGIN:VEVENT
DTSTART;TZID=America/Los_Angeles:20260120T180000
DTEND;TZID=America/Los_Angeles:20260120T200000
DTSTAMP:20260419T232651
CREATED:20260106T071540Z
LAST-MODIFIED:20260108T002625Z
UID:12111-1768932000-1768939200@www.syndicatewines.com
SUMMARY:Music Bingo
DESCRIPTION:Do you love music? Think you can name that tune?  Join us at Syndicate every Tuesday starting January 20th for a few hours of Music Bingo. Free to play.  Please come early to order dinner and or drinks. Your patronage is deeply appreciated.
URL:https://www.syndicatewines.com/event/music-bingo
LOCATION:Syndicate Wine Bar\, 12620 SW First Street\, Beaverton\, OR\, 97005\, United States
CATEGORIES:Group Activity
ATTACH;FMTTYPE=image/jpeg:https://www.syndicatewines.com/wp-content/uploads/2026/01/music-bingo.jpg
ORGANIZER;CN="Syndicate Wine Bar":MAILTO:events@syndicatewines.com
END:VEVENT
END:VCALENDAR