BEGIN:VCALENDAR
VERSION:2.0
PRODID:-//Syndicate Wine Bar - ECPv6.15.20//NONSGML v1.0//EN
CALSCALE:GREGORIAN
METHOD:PUBLISH
X-ORIGINAL-URL:https://www.syndicatewines.com
X-WR-CALDESC:Events for Syndicate Wine Bar
REFRESH-INTERVAL;VALUE=DURATION:PT1H
X-Robots-Tag:noindex
X-PUBLISHED-TTL:PT1H
BEGIN:VTIMEZONE
TZID:America/Los_Angeles
BEGIN:DAYLIGHT
TZOFFSETFROM:-0800
TZOFFSETTO:-0700
TZNAME:PDT
DTSTART:20250309T100000
END:DAYLIGHT
BEGIN:STANDARD
TZOFFSETFROM:-0700
TZOFFSETTO:-0800
TZNAME:PST
DTSTART:20251102T090000
END:STANDARD
BEGIN:DAYLIGHT
TZOFFSETFROM:-0800
TZOFFSETTO:-0700
TZNAME:PDT
DTSTART:20260308T100000
END:DAYLIGHT
BEGIN:STANDARD
TZOFFSETFROM:-0700
TZOFFSETTO:-0800
TZNAME:PST
DTSTART:20261101T090000
END:STANDARD
BEGIN:DAYLIGHT
TZOFFSETFROM:-0800
TZOFFSETTO:-0700
TZNAME:PDT
DTSTART:20270314T100000
END:DAYLIGHT
BEGIN:STANDARD
TZOFFSETFROM:-0700
TZOFFSETTO:-0800
TZNAME:PST
DTSTART:20271107T090000
END:STANDARD
END:VTIMEZONE
BEGIN:VEVENT
DTSTART;TZID=America/Los_Angeles:20261030T180000
DTEND;TZID=America/Los_Angeles:20261030T210000
DTSTAMP:20260419T203339
CREATED:20260106T064601Z
LAST-MODIFIED:20260106T064602Z
UID:12101-1793383200-1793394000@www.syndicatewines.com
SUMMARY:Halloween Party 2026
DESCRIPTION:Plan your outfits now. Come party with us for the costume party meant for adults.  We always plan this so that parents can be home with their kids on October 31st.  This is the party for adults and yes\, there will be a costume contest at the end of the night. \nGeneral Admission: $35\, Club Rate: $30\, includes a buffet dinner and one drink ticket
URL:https://www.syndicatewines.com/event/halloween2026
LOCATION:Syndicate Wine Bar\, 12620 SW First Street\, Beaverton\, OR\, 97005\, United States
CATEGORIES:21 and Older,Cocktail Party,Ticket Only
ATTACH;FMTTYPE=image/jpeg:https://www.syndicatewines.com/wp-content/uploads/2026/01/halloween-2026.jpg
ORGANIZER;CN="Syndicate Wine Bar":MAILTO:events@syndicatewines.com
END:VEVENT
END:VCALENDAR