BEGIN:VCALENDAR
VERSION:2.0
PRODID:-//Syndicate Wine Bar - ECPv6.15.20//NONSGML v1.0//EN
CALSCALE:GREGORIAN
METHOD:PUBLISH
X-ORIGINAL-URL:https://www.syndicatewines.com
X-WR-CALDESC:Events for Syndicate Wine Bar
REFRESH-INTERVAL;VALUE=DURATION:PT1H
X-Robots-Tag:noindex
X-PUBLISHED-TTL:PT1H
BEGIN:VTIMEZONE
TZID:America/Los_Angeles
BEGIN:DAYLIGHT
TZOFFSETFROM:-0800
TZOFFSETTO:-0700
TZNAME:PDT
DTSTART:20250309T100000
END:DAYLIGHT
BEGIN:STANDARD
TZOFFSETFROM:-0700
TZOFFSETTO:-0800
TZNAME:PST
DTSTART:20251102T090000
END:STANDARD
BEGIN:DAYLIGHT
TZOFFSETFROM:-0800
TZOFFSETTO:-0700
TZNAME:PDT
DTSTART:20260308T100000
END:DAYLIGHT
BEGIN:STANDARD
TZOFFSETFROM:-0700
TZOFFSETTO:-0800
TZNAME:PST
DTSTART:20261101T090000
END:STANDARD
BEGIN:DAYLIGHT
TZOFFSETFROM:-0800
TZOFFSETTO:-0700
TZNAME:PDT
DTSTART:20270314T100000
END:DAYLIGHT
BEGIN:STANDARD
TZOFFSETFROM:-0700
TZOFFSETTO:-0800
TZNAME:PST
DTSTART:20271107T090000
END:STANDARD
END:VTIMEZONE
BEGIN:VEVENT
DTSTART;TZID=America/Los_Angeles:20260303T180000
DTEND;TZID=America/Los_Angeles:20260303T200000
DTSTAMP:20260419T050450
CREATED:20260106T074027Z
LAST-MODIFIED:20260108T003219Z
UID:12125-1772560800-1772568000@www.syndicatewines.com
SUMMARY:Music Bingo
DESCRIPTION:Do you love music? Think you can name that tune?  Join us at Syndicate every Tuesday starting January 20th for a few hours of Music Bingo. Free to play.  Please come early to order dinner and or drinks. Your patronage is deeply appreciated.
URL:https://www.syndicatewines.com/event/music-bingo-5
LOCATION:Syndicate Wine Bar\, 12620 SW First Street\, Beaverton\, OR\, 97005\, United States
CATEGORIES:Group Activity
ATTACH;FMTTYPE=image/jpeg:https://www.syndicatewines.com/wp-content/uploads/2026/01/Copy-of-music-bingo-1.jpg
ORGANIZER;CN="Syndicate Wine Bar":MAILTO:events@syndicatewines.com
END:VEVENT
BEGIN:VEVENT
DTSTART;TZID=America/Los_Angeles:20260305T170000
DTEND;TZID=America/Los_Angeles:20260305T200000
DTSTAMP:20260419T050450
CREATED:20260217T040633Z
LAST-MODIFIED:20260217T040633Z
UID:12405-1772730000-1772740800@www.syndicatewines.com
SUMMARY:Winery Spotlight: Troon
DESCRIPTION:It’s happening. One of our favorite spots in McMinnville is coming up to Syndicate to share their amazing Druid’s series of wines. From bubbles\, to white\, to amber\, rose\, and red\, the Druids series is a flight of quality wines at affordable prices. Oh\, and we love all the whole Troon team.
URL:https://www.syndicatewines.com/event/winery-spotlight-troon
LOCATION:Syndicate Wine Bar\, 12620 SW First Street\, Beaverton\, OR\, 97005\, United States
CATEGORIES:Education,Group Activity
ATTACH;FMTTYPE=image/jpeg:https://www.syndicatewines.com/wp-content/uploads/2026/02/Troon.jpg
END:VEVENT
BEGIN:VEVENT
DTSTART;TZID=America/Los_Angeles:20260307T130000
DTEND;TZID=America/Los_Angeles:20260307T143000
DTSTAMP:20260419T050450
CREATED:20251223T005458Z
LAST-MODIFIED:20251223T005458Z
UID:11971-1772888400-1772893800@www.syndicatewines.com
SUMMARY:Mar. Club Event (Sat. 1 PM)
DESCRIPTION:Event solely reserved for our Club Members to sample their new monthly selections.  For more information on club please go to www.syndicatewines.com/wineclub
URL:https://www.syndicatewines.com/event/mar-club-event-sat-1-pm
LOCATION:Syndicate Wine Bar\, 12620 SW First Street\, Beaverton\, OR\, 97005\, United States
CATEGORIES:21 and Older,Education,Wine Club Only
ATTACH;FMTTYPE=image/jpeg:https://www.syndicatewines.com/wp-content/uploads/2024/12/Wine-Club-Tasting-1.jpg
ORGANIZER;CN="Syndicate Wine Bar":MAILTO:events@syndicatewines.com
END:VEVENT
BEGIN:VEVENT
DTSTART;TZID=America/Los_Angeles:20260308T130000
DTEND;TZID=America/Los_Angeles:20260308T143000
DTSTAMP:20260419T050450
CREATED:20251223T005928Z
LAST-MODIFIED:20251223T005928Z
UID:11973-1772974800-1772980200@www.syndicatewines.com
SUMMARY:Mar. Club Event (Sun. 1 PM)
DESCRIPTION:Event solely reserved for our Club Members to sample their new monthly selections.  For more information on club please go to www.syndicatewines.com/wineclub
URL:https://www.syndicatewines.com/event/mar-club-event-sun-1-pm
LOCATION:Syndicate Wine Bar\, 12620 SW First Street\, Beaverton\, OR\, 97005\, United States
CATEGORIES:21 and Older,Education,Group Activity,Wine Club Only
ATTACH;FMTTYPE=image/jpeg:https://www.syndicatewines.com/wp-content/uploads/2024/12/Wine-Club-Tasting-1.jpg
ORGANIZER;CN="Syndicate Wine Bar":MAILTO:events@syndicatewines.com
END:VEVENT
BEGIN:VEVENT
DTSTART;TZID=America/Los_Angeles:20260308T160000
DTEND;TZID=America/Los_Angeles:20260308T173000
DTSTAMP:20260419T050450
CREATED:20251223T015137Z
LAST-MODIFIED:20251223T015137Z
UID:11975-1772985600-1772991000@www.syndicatewines.com
SUMMARY:Mar. Club Event (Sun. 4 PM)
DESCRIPTION:Event solely reserved for our Club Members to sample their new monthly selections.  For more information on club please go to www.syndicatewines.com/wineclub
URL:https://www.syndicatewines.com/event/mar-club-event-sun-4-pm
LOCATION:Syndicate Wine Bar\, 12620 SW First Street\, Beaverton\, OR\, 97005\, United States
CATEGORIES:21 and Older,Education,Group Activity,Wine Club Only
ATTACH;FMTTYPE=image/jpeg:https://www.syndicatewines.com/wp-content/uploads/2024/12/Wine-Club-Tasting-1.jpg
ORGANIZER;CN="Syndicate Wine Bar":MAILTO:events@syndicatewines.com
END:VEVENT
BEGIN:VEVENT
DTSTART;TZID=America/Los_Angeles:20260310T180000
DTEND;TZID=America/Los_Angeles:20260310T200000
DTSTAMP:20260419T050450
CREATED:20260106T074353Z
LAST-MODIFIED:20260108T003123Z
UID:12127-1773165600-1773172800@www.syndicatewines.com
SUMMARY:Music Bingo
DESCRIPTION:Do you love music? Think you can name that tune?  Join us at Syndicate every Tuesday starting January 20th for a few hours of Music Bingo. Free to play.  Please come early to order dinner and or drinks. Your patronage is deeply appreciated.
URL:https://www.syndicatewines.com/event/music-bingo-6
LOCATION:Syndicate Wine Bar\, 12620 SW First Street\, Beaverton\, OR\, 97005\, United States
CATEGORIES:Group Activity
ATTACH;FMTTYPE=image/jpeg:https://www.syndicatewines.com/wp-content/uploads/2026/01/Copy-of-music-bingo-1.jpg
ORGANIZER;CN="Syndicate Wine Bar":MAILTO:events@syndicatewines.com
END:VEVENT
BEGIN:VEVENT
DTSTART;TZID=America/Los_Angeles:20260311T170000
DTEND;TZID=America/Los_Angeles:20260311T190000
DTSTAMP:20260419T050450
CREATED:20260225T210118Z
LAST-MODIFIED:20260225T210119Z
UID:12435-1773248400-1773255600@www.syndicatewines.com
SUMMARY:VIP Tasting with Penfolds
DESCRIPTION:All the way from California\, the team from Penfolds will be bringing us a flight of their amazing line-up. Complimentary appetizers.\nSpecial Sales and Flights all night. Meet the people behind the brand.
URL:https://www.syndicatewines.com/event/vip-tasting-with-penfolds
LOCATION:Syndicate Wine Bar\, 12620 SW First Street\, Beaverton\, OR\, 97005\, United States
CATEGORIES:21 and Older,Education
ATTACH;FMTTYPE=image/jpeg:https://www.syndicatewines.com/wp-content/uploads/2026/02/VIP-Tasting.jpg
ORGANIZER;CN="Syndicate Wine Bar":MAILTO:events@syndicatewines.com
END:VEVENT
BEGIN:VEVENT
DTSTART;TZID=America/Los_Angeles:20260317T180000
DTEND;TZID=America/Los_Angeles:20260317T200000
DTSTAMP:20260419T050450
CREATED:20260106T074601Z
LAST-MODIFIED:20260108T003033Z
UID:12129-1773770400-1773777600@www.syndicatewines.com
SUMMARY:Music Bingo
DESCRIPTION:Do you love music? Think you can name that tune?  Join us at Syndicate every Tuesday starting January 20th for a few hours of Music Bingo. Free to play.  Please come early to order dinner and or drinks. Your patronage is deeply appreciated.
URL:https://www.syndicatewines.com/event/music-bingo-7
LOCATION:Syndicate Wine Bar\, 12620 SW First Street\, Beaverton\, OR\, 97005\, United States
CATEGORIES:Group Activity
ATTACH;FMTTYPE=image/jpeg:https://www.syndicatewines.com/wp-content/uploads/2026/01/Copy-of-music-bingo-1.jpg
ORGANIZER;CN="Syndicate Wine Bar":MAILTO:events@syndicatewines.com
END:VEVENT
BEGIN:VEVENT
DTSTART;TZID=America/Los_Angeles:20260321T140000
DTEND;TZID=America/Los_Angeles:20260321T153000
DTSTAMP:20260419T050450
CREATED:20251115T180827Z
LAST-MODIFIED:20260211T215750Z
UID:11691-1774101600-1774107000@www.syndicatewines.com
SUMMARY:Wine 101: Red Mountain
DESCRIPTION:Located in southeastern Washington State\, Red Mountain is a seeming geologic oddity within the Yakima Valley\, home to dozens of prized vineyards known for producing expressive\, high quality wines. How did Red Mountain come to be? What makes its microclimate and terroir so distinct to have earned it an American Viticultural Area designation? \nIn this Wine 101 session\, we learn about and discuss the geologic and natural history of the area\, highlighting some of the founding Red Mountain vineyards that put it on the map\, and sample nine red wines from vineyards growing on its slopes.
URL:https://www.syndicatewines.com/event/redmountain
LOCATION:Syndicate Wine Bar\, 12620 SW First Street\, Beaverton\, OR\, 97005\, United States
CATEGORIES:Education
ATTACH;FMTTYPE=image/png:https://www.syndicatewines.com/wp-content/uploads/2026/02/red-mountain.png
ORGANIZER;CN="Syndicate Wine Bar":MAILTO:events@syndicatewines.com
END:VEVENT
BEGIN:VEVENT
DTSTART;TZID=America/Los_Angeles:20260324T180000
DTEND;TZID=America/Los_Angeles:20260324T200000
DTSTAMP:20260419T050450
CREATED:20260106T075043Z
LAST-MODIFIED:20260108T002958Z
UID:12131-1774375200-1774382400@www.syndicatewines.com
SUMMARY:Music Bingo
DESCRIPTION:Do you love music? Think you can name that tune?  Join us at Syndicate every Tuesday starting January 20th for a few hours of Music Bingo. Free to play.  Please come early to order dinner and or drinks. Your patronage is deeply appreciated.
URL:https://www.syndicatewines.com/event/music-bingo-8
LOCATION:Syndicate Wine Bar\, 12620 SW First Street\, Beaverton\, OR\, 97005\, United States
CATEGORIES:Group Activity
ATTACH;FMTTYPE=image/jpeg:https://www.syndicatewines.com/wp-content/uploads/2026/01/Copy-of-music-bingo-1.jpg
ORGANIZER;CN="Syndicate Wine Bar":MAILTO:events@syndicatewines.com
END:VEVENT
BEGIN:VEVENT
DTSTART;TZID=America/Los_Angeles:20260331T180000
DTEND;TZID=America/Los_Angeles:20260331T200000
DTSTAMP:20260419T050450
CREATED:20260106T075410Z
LAST-MODIFIED:20260108T002926Z
UID:12133-1774980000-1774987200@www.syndicatewines.com
SUMMARY:Music Bingo
DESCRIPTION:Do you love music? Think you can name that tune?  Join us at Syndicate every Tuesday starting January 20th for a few hours of Music Bingo. Free to play.  Please come early to order dinner and or drinks. Your patronage is deeply appreciated.
URL:https://www.syndicatewines.com/event/music-bingo-9
LOCATION:Syndicate Wine Bar\, 12620 SW First Street\, Beaverton\, OR\, 97005\, United States
CATEGORIES:Group Activity
ATTACH;FMTTYPE=image/jpeg:https://www.syndicatewines.com/wp-content/uploads/2026/01/Copy-of-music-bingo-1.jpg
ORGANIZER;CN="Syndicate Wine Bar":MAILTO:events@syndicatewines.com
END:VEVENT
END:VCALENDAR