BEGIN:VCALENDAR
VERSION:2.0
PRODID:-//Syndicate Wine Bar - ECPv6.15.20//NONSGML v1.0//EN
CALSCALE:GREGORIAN
METHOD:PUBLISH
X-WR-CALNAME:Syndicate Wine Bar
X-ORIGINAL-URL:https://www.syndicatewines.com
X-WR-CALDESC:Events for Syndicate Wine Bar
REFRESH-INTERVAL;VALUE=DURATION:PT1H
X-Robots-Tag:noindex
X-PUBLISHED-TTL:PT1H
BEGIN:VTIMEZONE
TZID:America/Los_Angeles
BEGIN:DAYLIGHT
TZOFFSETFROM:-0800
TZOFFSETTO:-0700
TZNAME:PDT
DTSTART:20250309T100000
END:DAYLIGHT
BEGIN:STANDARD
TZOFFSETFROM:-0700
TZOFFSETTO:-0800
TZNAME:PST
DTSTART:20251102T090000
END:STANDARD
BEGIN:DAYLIGHT
TZOFFSETFROM:-0800
TZOFFSETTO:-0700
TZNAME:PDT
DTSTART:20260308T100000
END:DAYLIGHT
BEGIN:STANDARD
TZOFFSETFROM:-0700
TZOFFSETTO:-0800
TZNAME:PST
DTSTART:20261101T090000
END:STANDARD
BEGIN:DAYLIGHT
TZOFFSETFROM:-0800
TZOFFSETTO:-0700
TZNAME:PDT
DTSTART:20270314T100000
END:DAYLIGHT
BEGIN:STANDARD
TZOFFSETFROM:-0700
TZOFFSETTO:-0800
TZNAME:PST
DTSTART:20271107T090000
END:STANDARD
END:VTIMEZONE
BEGIN:VEVENT
DTSTART;TZID=America/Los_Angeles:20260602T180000
DTEND;TZID=America/Los_Angeles:20260602T200000
DTSTAMP:20260419T062705
CREATED:20260415T014824Z
LAST-MODIFIED:20260415T014824Z
UID:12675-1780423200-1780430400@www.syndicatewines.com
SUMMARY:Music Bingo
DESCRIPTION:Tuesday\, 6/2/26: \n\nWerk It (Coming Out to the Dance Floor)\nDivas Part II (Who Run The World?)
URL:https://www.syndicatewines.com/event/music-bingo-18
LOCATION:Syndicate Wine Bar\, 12620 SW First Street\, Beaverton\, OR\, 97005\, United States
CATEGORIES:Group Activity
ATTACH;FMTTYPE=image/jpeg:https://www.syndicatewines.com/wp-content/uploads/2026/01/Copy-of-music-bingo.jpg
ORGANIZER;CN="Syndicate Wine Bar":MAILTO:events@syndicatewines.com
END:VEVENT
BEGIN:VEVENT
DTSTART;TZID=America/Los_Angeles:20260605T210000
DTEND;TZID=America/Los_Angeles:20260605T233000
DTSTAMP:20260419T062705
CREATED:20260106T065222Z
LAST-MODIFIED:20260106T082151Z
UID:12105-1780693200-1780702200@www.syndicatewines.com
SUMMARY:Syndicate Late Night
DESCRIPTION:Every Friday night from 9 PM to Midnight for the months of June\, July\, and August. Only on Fridays.
URL:https://www.syndicatewines.com/event/club-syndicate-2
LOCATION:Syndicate Wine Bar\, 12620 SW First Street\, Beaverton\, OR\, 97005\, United States
CATEGORIES:21 and Older,Cocktail Party,Group Activity
ATTACH;FMTTYPE=image/jpeg:https://www.syndicatewines.com/wp-content/uploads/2026/01/late-night.jpg
ORGANIZER;CN="Syndicate Wine Bar":MAILTO:events@syndicatewines.com
END:VEVENT
BEGIN:VEVENT
DTSTART;TZID=America/Los_Angeles:20260606T130000
DTEND;TZID=America/Los_Angeles:20260606T143000
DTSTAMP:20260419T062705
CREATED:20251224T011808Z
LAST-MODIFIED:20251224T012441Z
UID:11996-1780750800-1780756200@www.syndicatewines.com
SUMMARY:June Club Event (Sat. 1 PM)
DESCRIPTION:Event solely reserved for our Club Members to sample their new monthly selections.  For more information on club please go to www.syndicatewines.com/wineclub
URL:https://www.syndicatewines.com/event/tasting-3
LOCATION:Syndicate Wine Bar\, 12620 SW First Street\, Beaverton\, OR\, 97005\, United States
CATEGORIES:21 and Older,Education,Group Activity,Wine Club Only
ATTACH;FMTTYPE=image/jpeg:https://www.syndicatewines.com/wp-content/uploads/2024/12/Wine-Club-Tasting-1.jpg
ORGANIZER;CN="Syndicate Wine Bar":MAILTO:events@syndicatewines.com
END:VEVENT
BEGIN:VEVENT
DTSTART;TZID=America/Los_Angeles:20260607T130000
DTEND;TZID=America/Los_Angeles:20260607T143000
DTSTAMP:20260419T062705
CREATED:20251224T012327Z
LAST-MODIFIED:20251224T012327Z
UID:11998-1780837200-1780842600@www.syndicatewines.com
SUMMARY:June Club Event (Sun. 1 PM)
DESCRIPTION:Event solely reserved for our Club Members to sample their new monthly selections.  For more information on club please go to www.syndicatewines.com/wineclub
URL:https://www.syndicatewines.com/event/tasting-4
LOCATION:Syndicate Wine Bar\, 12620 SW First Street\, Beaverton\, OR\, 97005\, United States
CATEGORIES:21 and Older,Education,Group Activity,Wine Club Only
ATTACH;FMTTYPE=image/jpeg:https://www.syndicatewines.com/wp-content/uploads/2024/12/Wine-Club-Tasting-1.jpg
ORGANIZER;CN="Syndicate Wine Bar":MAILTO:events@syndicatewines.com
END:VEVENT
BEGIN:VEVENT
DTSTART;TZID=America/Los_Angeles:20260609T180000
DTEND;TZID=America/Los_Angeles:20260609T200000
DTSTAMP:20260419T062705
CREATED:20260415T015406Z
LAST-MODIFIED:20260415T015407Z
UID:12677-1781028000-1781035200@www.syndicatewines.com
SUMMARY:Music Bingo
DESCRIPTION:Tuesday\, 6/9/26: \n\n2000’s Nostalgia (High School Dance)\nSongs of Summer (School’s Out!)
URL:https://www.syndicatewines.com/event/music-bingo-19
LOCATION:Syndicate Wine Bar\, 12620 SW First Street\, Beaverton\, OR\, 97005\, United States
CATEGORIES:Group Activity
ATTACH;FMTTYPE=image/jpeg:https://www.syndicatewines.com/wp-content/uploads/2026/01/Copy-of-music-bingo.jpg
ORGANIZER;CN="Syndicate Wine Bar":MAILTO:events@syndicatewines.com
END:VEVENT
BEGIN:VEVENT
DTSTART;TZID=America/Los_Angeles:20260612T210000
DTEND;TZID=America/Los_Angeles:20260612T233000
DTSTAMP:20260419T062705
CREATED:20260106T082302Z
LAST-MODIFIED:20260106T082303Z
UID:12142-1781298000-1781307000@www.syndicatewines.com
SUMMARY:Syndicate Late Night
DESCRIPTION:Every Friday night from 9 PM to Midnight for the months of June\, July\, and August. Only on Fridays.
URL:https://www.syndicatewines.com/event/late-night
LOCATION:Syndicate Wine Bar\, 12620 SW First Street\, Beaverton\, OR\, 97005\, United States
CATEGORIES:Group Activity
ATTACH;FMTTYPE=image/jpeg:https://www.syndicatewines.com/wp-content/uploads/2026/01/late-night.jpg
ORGANIZER;CN="Syndicate Wine Bar":MAILTO:events@syndicatewines.com
END:VEVENT
BEGIN:VEVENT
DTSTART;TZID=America/Los_Angeles:20260616T180000
DTEND;TZID=America/Los_Angeles:20260616T200000
DTSTAMP:20260419T062705
CREATED:20260415T021201Z
LAST-MODIFIED:20260415T021201Z
UID:12679-1781632800-1781640000@www.syndicatewines.com
SUMMARY:Music Bingo
DESCRIPTION:Tuesday\, 6/16/26: \n\nSongs about Family (Daddy Sang Bass)\nSongs About Men (It’s Music\, Bro!)
URL:https://www.syndicatewines.com/event/music-bingo-20
LOCATION:Syndicate Wine Bar\, 12620 SW First Street\, Beaverton\, OR\, 97005\, United States
CATEGORIES:Group Activity
ATTACH;FMTTYPE=image/jpeg:https://www.syndicatewines.com/wp-content/uploads/2026/01/Copy-of-music-bingo.jpg
ORGANIZER;CN="Syndicate Wine Bar":MAILTO:events@syndicatewines.com
END:VEVENT
BEGIN:VEVENT
DTSTART;TZID=America/Los_Angeles:20260619T210000
DTEND;TZID=America/Los_Angeles:20260619T233000
DTSTAMP:20260419T062705
CREATED:20260106T082430Z
LAST-MODIFIED:20260106T082456Z
UID:12144-1781902800-1781911800@www.syndicatewines.com
SUMMARY:Syndicate Late Night
DESCRIPTION:Every Friday night from 9 PM to Midnight for the months of June\, July\, and August. Only on Fridays.
URL:https://www.syndicatewines.com/event/late-night-2
LOCATION:Syndicate Wine Bar\, 12620 SW First Street\, Beaverton\, OR\, 97005\, United States
CATEGORIES:Group Activity
ATTACH;FMTTYPE=image/jpeg:https://www.syndicatewines.com/wp-content/uploads/2026/01/late-night.jpg
ORGANIZER;CN="Syndicate Wine Bar":MAILTO:events@syndicatewines.com
END:VEVENT
BEGIN:VEVENT
DTSTART;TZID=America/Los_Angeles:20260626T210000
DTEND;TZID=America/Los_Angeles:20260626T233000
DTSTAMP:20260419T062705
CREATED:20260106T082646Z
LAST-MODIFIED:20260106T082647Z
UID:12146-1782507600-1782516600@www.syndicatewines.com
SUMMARY:Syndicate Late Night
DESCRIPTION:Every Friday night from 9 PM to Midnight for the months of June\, July\, and August. Only on Fridays.
URL:https://www.syndicatewines.com/event/late-night-3
LOCATION:Syndicate Wine Bar\, 12620 SW First Street\, Beaverton\, OR\, 97005\, United States
CATEGORIES:21 and Older,Group Activity
ATTACH;FMTTYPE=image/jpeg:https://www.syndicatewines.com/wp-content/uploads/2026/01/late-night.jpg
ORGANIZER;CN="Syndicate Wine Bar":MAILTO:events@syndicatewines.com
END:VEVENT
BEGIN:VEVENT
DTSTART;TZID=America/Los_Angeles:20260627T140000
DTEND;TZID=America/Los_Angeles:20260627T180000
DTSTAMP:20260419T062705
CREATED:20260106T063455Z
LAST-MODIFIED:20260320T205914Z
UID:12097-1782568800-1782583200@www.syndicatewines.com
SUMMARY:Syndicate 2026 Block Party
DESCRIPTION:The wine tasting event of the summer. Multiple wineries. Tons of bottle sales. Tons of amazing food on the grill.  Come join us for a special afternoon. \n\nGeneral Admission $35\nClub Members $30\n\nIncludes 10 tasting coupons to be used at any drink booth.  Food sold separately.  This is a wine event so please support the Syndicate Kitchen team through the purchase of food.  Bottle sales support the individual unique producers and encourage their participation in future events. Must be 21 years or older to consume alcohol. If you would like to sponsor this event in any way\, please contact us at sales@syndicatewines.com. \nConfirmed Wine Brands Attending: \n\nAniChe Cellars\nHawks View Vineyard\nJ. Christopher\nOcelli Cellars\nParra Wine Company\nRemy Wines\nResilience Wines\nSeallione Wines\nTroon Vineyards\nVarnum Vintners
URL:https://www.syndicatewines.com/event/wine-tasting
LOCATION:Syndicate Wine Bar\, 12620 SW First Street\, Beaverton\, OR\, 97005\, United States
CATEGORIES:21 and Older,Group Activity,Ticket Only
ATTACH;FMTTYPE=image/jpeg:https://www.syndicatewines.com/wp-content/uploads/2026/01/Block-Party-Banner-1.jpg
ORGANIZER;CN="Syndicate Wine Bar":MAILTO:events@syndicatewines.com
END:VEVENT
END:VCALENDAR