BEGIN:VCALENDAR
VERSION:2.0
PRODID:-//Syndicate Wine Bar - ECPv6.15.20//NONSGML v1.0//EN
CALSCALE:GREGORIAN
METHOD:PUBLISH
X-WR-CALNAME:Syndicate Wine Bar
X-ORIGINAL-URL:https://www.syndicatewines.com
X-WR-CALDESC:Events for Syndicate Wine Bar
REFRESH-INTERVAL;VALUE=DURATION:PT1H
X-Robots-Tag:noindex
X-PUBLISHED-TTL:PT1H
BEGIN:VTIMEZONE
TZID:America/Los_Angeles
BEGIN:DAYLIGHT
TZOFFSETFROM:-0800
TZOFFSETTO:-0700
TZNAME:PDT
DTSTART:20250309T100000
END:DAYLIGHT
BEGIN:STANDARD
TZOFFSETFROM:-0700
TZOFFSETTO:-0800
TZNAME:PST
DTSTART:20251102T090000
END:STANDARD
BEGIN:DAYLIGHT
TZOFFSETFROM:-0800
TZOFFSETTO:-0700
TZNAME:PDT
DTSTART:20260308T100000
END:DAYLIGHT
BEGIN:STANDARD
TZOFFSETFROM:-0700
TZOFFSETTO:-0800
TZNAME:PST
DTSTART:20261101T090000
END:STANDARD
BEGIN:DAYLIGHT
TZOFFSETFROM:-0800
TZOFFSETTO:-0700
TZNAME:PDT
DTSTART:20270314T100000
END:DAYLIGHT
BEGIN:STANDARD
TZOFFSETFROM:-0700
TZOFFSETTO:-0800
TZNAME:PST
DTSTART:20271107T090000
END:STANDARD
END:VTIMEZONE
BEGIN:VEVENT
DTSTART;TZID=America/Los_Angeles:20260703T210000
DTEND;TZID=America/Los_Angeles:20260703T233000
DTSTAMP:20260419T074644
CREATED:20260106T083602Z
LAST-MODIFIED:20260106T083602Z
UID:12148-1783112400-1783121400@www.syndicatewines.com
SUMMARY:Syndicate Late Night
DESCRIPTION:Every Friday night from 9 PM to Midnight for the months of June\, July\, and August. Only on Fridays.
URL:https://www.syndicatewines.com/event/late-night-4
LOCATION:Syndicate Wine Bar\, 12620 SW First Street\, Beaverton\, OR\, 97005\, United States
CATEGORIES:Group Activity
ATTACH;FMTTYPE=image/jpeg:https://www.syndicatewines.com/wp-content/uploads/2026/01/late-night.jpg
ORGANIZER;CN="Syndicate Wine Bar":MAILTO:events@syndicatewines.com
END:VEVENT
BEGIN:VEVENT
DTSTART;TZID=America/Los_Angeles:20260710T210000
DTEND;TZID=America/Los_Angeles:20260710T233000
DTSTAMP:20260419T074644
CREATED:20260106T083914Z
LAST-MODIFIED:20260106T083915Z
UID:12150-1783717200-1783726200@www.syndicatewines.com
SUMMARY:Syndicate Late Night
DESCRIPTION:Every Friday night from 9 PM to Midnight for the months of June\, July\, and August. Only on Fridays.
URL:https://www.syndicatewines.com/event/late-night-5
LOCATION:Syndicate Wine Bar\, 12620 SW First Street\, Beaverton\, OR\, 97005\, United States
CATEGORIES:Group Activity
ATTACH;FMTTYPE=image/jpeg:https://www.syndicatewines.com/wp-content/uploads/2026/01/late-night.jpg
ORGANIZER;CN="Syndicate Wine Bar":MAILTO:events@syndicatewines.com
END:VEVENT
BEGIN:VEVENT
DTSTART;TZID=America/Los_Angeles:20260717T210000
DTEND;TZID=America/Los_Angeles:20260717T233000
DTSTAMP:20260419T074644
CREATED:20260106T084119Z
LAST-MODIFIED:20260106T084120Z
UID:12152-1784322000-1784331000@www.syndicatewines.com
SUMMARY:Syndicate Late Night
DESCRIPTION:Every Friday night from 9 PM to Midnight for the months of June\, July\, and August. Only on Fridays.
URL:https://www.syndicatewines.com/event/late-night-6
LOCATION:Syndicate Wine Bar\, 12620 SW First Street\, Beaverton\, OR\, 97005\, United States
CATEGORIES:Group Activity
ATTACH;FMTTYPE=image/jpeg:https://www.syndicatewines.com/wp-content/uploads/2026/01/late-night.jpg
ORGANIZER;CN="Syndicate Wine Bar":MAILTO:events@syndicatewines.com
END:VEVENT
BEGIN:VEVENT
DTSTART;TZID=America/Los_Angeles:20260724T210000
DTEND;TZID=America/Los_Angeles:20260724T233000
DTSTAMP:20260419T074644
CREATED:20260106T084324Z
LAST-MODIFIED:20260106T084324Z
UID:12154-1784926800-1784935800@www.syndicatewines.com
SUMMARY:Syndicate Late Night
DESCRIPTION:Every Friday night from 9 PM to Midnight for the months of June\, July\, and August. Only on Fridays.
URL:https://www.syndicatewines.com/event/late-night-7
LOCATION:Syndicate Wine Bar\, 12620 SW First Street\, Beaverton\, OR\, 97005\, United States
CATEGORIES:Group Activity
ATTACH;FMTTYPE=image/jpeg:https://www.syndicatewines.com/wp-content/uploads/2026/01/late-night.jpg
ORGANIZER;CN="Syndicate Wine Bar":MAILTO:events@syndicatewines.com
END:VEVENT
BEGIN:VEVENT
DTSTART;TZID=America/Los_Angeles:20260725T180000
DTEND;TZID=America/Los_Angeles:20260725T210000
DTSTAMP:20260419T074644
CREATED:20260106T065902Z
LAST-MODIFIED:20260106T065902Z
UID:12107-1785002400-1785013200@www.syndicatewines.com
SUMMARY:80's 90's Party
DESCRIPTION:Dust off those leg warmers\, the tie-dye\, and all your acid washed jeans.  We will be cranking the music for a fun night of everything 80’s and 90’s.  Ticket price will include a buffet dinner and one drink ticket. GA: $35\, Club: $30
URL:https://www.syndicatewines.com/event/80s-90s-party
LOCATION:Syndicate Wine Bar\, 12620 SW First Street\, Beaverton\, OR\, 97005\, United States
CATEGORIES:21 and Older,Cocktail Party,Group Activity
ATTACH;FMTTYPE=image/jpeg:https://www.syndicatewines.com/wp-content/uploads/2026/01/Theme-Parties.jpg
ORGANIZER;CN="Syndicate Wine Bar":MAILTO:events@syndicatewines.com
END:VEVENT
BEGIN:VEVENT
DTSTART;TZID=America/Los_Angeles:20260731T210000
DTEND;TZID=America/Los_Angeles:20260731T233000
DTSTAMP:20260419T074644
CREATED:20260106T084559Z
LAST-MODIFIED:20260106T084559Z
UID:12156-1785531600-1785540600@www.syndicatewines.com
SUMMARY:Syndicate Late Night
DESCRIPTION:Every Friday night from 9 PM to Midnight for the months of June\, July\, and August. Only on Fridays.
URL:https://www.syndicatewines.com/event/late-night-8
LOCATION:Syndicate Wine Bar\, 12620 SW First Street\, Beaverton\, OR\, 97005\, United States
CATEGORIES:Group Activity
ATTACH;FMTTYPE=image/jpeg:https://www.syndicatewines.com/wp-content/uploads/2026/01/late-night.jpg
ORGANIZER;CN="Syndicate Wine Bar":MAILTO:events@syndicatewines.com
END:VEVENT
END:VCALENDAR