BEGIN:VCALENDAR
VERSION:2.0
PRODID:-//Syndicate Wine Bar - ECPv6.15.20//NONSGML v1.0//EN
CALSCALE:GREGORIAN
METHOD:PUBLISH
X-WR-CALNAME:Syndicate Wine Bar
X-ORIGINAL-URL:https://www.syndicatewines.com
X-WR-CALDESC:Events for Syndicate Wine Bar
REFRESH-INTERVAL;VALUE=DURATION:PT1H
X-Robots-Tag:noindex
X-PUBLISHED-TTL:PT1H
BEGIN:VTIMEZONE
TZID:America/Los_Angeles
BEGIN:DAYLIGHT
TZOFFSETFROM:-0800
TZOFFSETTO:-0700
TZNAME:PDT
DTSTART:20250309T100000
END:DAYLIGHT
BEGIN:STANDARD
TZOFFSETFROM:-0700
TZOFFSETTO:-0800
TZNAME:PST
DTSTART:20251102T090000
END:STANDARD
BEGIN:DAYLIGHT
TZOFFSETFROM:-0800
TZOFFSETTO:-0700
TZNAME:PDT
DTSTART:20260308T100000
END:DAYLIGHT
BEGIN:STANDARD
TZOFFSETFROM:-0700
TZOFFSETTO:-0800
TZNAME:PST
DTSTART:20261101T090000
END:STANDARD
BEGIN:DAYLIGHT
TZOFFSETFROM:-0800
TZOFFSETTO:-0700
TZNAME:PDT
DTSTART:20270314T100000
END:DAYLIGHT
BEGIN:STANDARD
TZOFFSETFROM:-0700
TZOFFSETTO:-0800
TZNAME:PST
DTSTART:20271107T090000
END:STANDARD
END:VTIMEZONE
BEGIN:VEVENT
DTSTART;TZID=America/Los_Angeles:20260203T180000
DTEND;TZID=America/Los_Angeles:20260203T200000
DTSTAMP:20260423T045814
CREATED:20260106T072427Z
LAST-MODIFIED:20260108T003454Z
UID:12117-1770141600-1770148800@www.syndicatewines.com
SUMMARY:Music Bingo
DESCRIPTION:Do you love music? Think you can name that tune?  Join us at Syndicate every Tuesday starting January 20th for a few hours of Music Bingo. Free to play.  Please come early to order dinner and or drinks. Your patronage is deeply appreciated.
URL:https://www.syndicatewines.com/event/music-bingo-3
LOCATION:Syndicate Wine Bar\, 12620 SW First Street\, Beaverton\, OR\, 97005\, United States
CATEGORIES:Group Activity
ATTACH;FMTTYPE=image/jpeg:https://www.syndicatewines.com/wp-content/uploads/2026/01/Copy-of-music-bingo-1.jpg
ORGANIZER;CN="Syndicate Wine Bar":MAILTO:events@syndicatewines.com
END:VEVENT
BEGIN:VEVENT
DTSTART;TZID=America/Los_Angeles:20260208T140000
DTEND;TZID=America/Los_Angeles:20260208T200000
DTSTAMP:20260423T045814
CREATED:20260106T080521Z
LAST-MODIFIED:20260106T080521Z
UID:12137-1770559200-1770580800@www.syndicatewines.com
SUMMARY:Big Game Potluck
DESCRIPTION:Bring your favorite dish as we watch the big game on the big screen.  Vote on the best commercials and cheer on your favorite team or a good game.
URL:https://www.syndicatewines.com/event/big-game-potluck
LOCATION:Syndicate Wine Bar\, 12620 SW First Street\, Beaverton\, OR\, 97005\, United States
ATTACH;FMTTYPE=image/jpeg:https://www.syndicatewines.com/wp-content/uploads/2026/01/big-Game.jpg
ORGANIZER;CN="Syndicate Wine Bar":MAILTO:events@syndicatewines.com
END:VEVENT
BEGIN:VEVENT
DTSTART;TZID=America/Los_Angeles:20260210T180000
DTEND;TZID=America/Los_Angeles:20260210T200000
DTSTAMP:20260423T045814
CREATED:20260106T072744Z
LAST-MODIFIED:20260108T003421Z
UID:12119-1770746400-1770753600@www.syndicatewines.com
SUMMARY:Music Bingo
DESCRIPTION:Do you love music? Think you can name that tune?  Join us at Syndicate every Tuesday starting January 20th for a few hours of Music Bingo. Free to play.  Please come early to order dinner and or drinks. Your patronage is deeply appreciated.
URL:https://www.syndicatewines.com/event/music-bingo-4
LOCATION:Syndicate Wine Bar\, 12620 SW First Street\, Beaverton\, OR\, 97005\, United States
CATEGORIES:Group Activity
ATTACH;FMTTYPE=image/jpeg:https://www.syndicatewines.com/wp-content/uploads/2026/01/Copy-of-music-bingo-1.jpg
ORGANIZER;CN="Syndicate Wine Bar":MAILTO:events@syndicatewines.com
END:VEVENT
BEGIN:VEVENT
DTSTART;TZID=America/Los_Angeles:20260217T180000
DTEND;TZID=America/Los_Angeles:20260217T200000
DTSTAMP:20260423T045814
CREATED:20260106T072944Z
LAST-MODIFIED:20260108T003340Z
UID:12121-1771351200-1771358400@www.syndicatewines.com
SUMMARY:Music Bingo
DESCRIPTION:Do you love music? Think you can name that tune?  Join us at Syndicate every Tuesday starting January 20th for a few hours of Music Bingo. Free to play.  Please come early to order dinner and or drinks. Your patronage is deeply appreciated.
URL:https://www.syndicatewines.com/event/bingo
LOCATION:Syndicate Wine Bar\, 12620 SW First Street\, Beaverton\, OR\, 97005\, United States
CATEGORIES:Group Activity
ATTACH;FMTTYPE=image/jpeg:https://www.syndicatewines.com/wp-content/uploads/2026/01/Copy-of-music-bingo-1.jpg
ORGANIZER;CN="Syndicate Wine Bar":MAILTO:events@syndicatewines.com
END:VEVENT
BEGIN:VEVENT
DTSTART;TZID=America/Los_Angeles:20260224T180000
DTEND;TZID=America/Los_Angeles:20260224T200000
DTSTAMP:20260423T045814
CREATED:20260106T073203Z
LAST-MODIFIED:20260108T003309Z
UID:12123-1771956000-1771963200@www.syndicatewines.com
SUMMARY:Music Bingo
DESCRIPTION:Do you love music? Think you can name that tune?  Join us at Syndicate every Tuesday starting January 20th for a few hours of Music Bingo. Free to play.  Please come early to order dinner and or drinks. Your patronage is deeply appreciated.
URL:https://www.syndicatewines.com/event/bingo-2
LOCATION:Syndicate Wine Bar\, 12620 SW First Street\, Beaverton\, OR\, 97005\, United States
CATEGORIES:Group Activity
ATTACH;FMTTYPE=image/jpeg:https://www.syndicatewines.com/wp-content/uploads/2026/01/Copy-of-music-bingo-1.jpg
ORGANIZER;CN="Syndicate Wine Bar":MAILTO:events@syndicatewines.com
END:VEVENT
END:VCALENDAR